Workbook

Sheet 渠道销售明细
A1: 上海排阿婆信息科技 · CEMOY/澳诗茉全渠道销售数据（2026年6月29日-7月5日）
A2: 日期 | B2: 渠道 | C2: 品牌 | D2: SKU | E2: 销量(件) | F2: 销售额(元) | G2: 退款额(元) | H2: 备注
A3: 2026-06-29 | B3: 抖音旗舰店 | C3: CEMOY | D3: CEMOY山羊奶身体乳 | E3: 170 | F3: 28730 | G3: 639.09
A4: 2026-06-29 | B4: 抖音旗舰店 | C4: CEMOY | D4: CEMOY奇迹再生面霜 | E4: 169 | F4: 26871 | G4: 1258.2
A5: 2026-06-29 | B5: 抖音旗舰店 | C5: CEMOY | D5: CEMOY山羊奶洁面乳 | E5: 120 | F5: 15480 | G5: 611.84
A6: 2026-06-29 | B6: 抖音旗舰店 | C6: CEMOY | D6: CEMOY玻尿酸精华水 | E6: 60 | F6: 7740 | G6: 88.93
A7: 2026-06-29 | B7: 抖音旗舰店 | C7: 澳诗茉 | D7: 澳诗茉玫瑰精华水 | E7: 194 | F7: 25026 | G7: 952.55
A8: 2026-06-29 | B8: 抖音旗舰店 | C8: 澳诗茉 | D8: 澳诗茉烟酰胺淡斑精华 | E8: 253 | F8: 65527 | G8: 2784.52
A9: 2026-06-29 | B9: 抖音旗舰店 | C9: 澳诗茉 | D9: 澳诗茉洁颜蜜 | E9: 137 | F9: 31373 | G9: 750.11
A10: 2026-06-29 | B10: 抖音旗舰店 | C10: 澳诗茉 | D10: 澳诗茉神经酰胺面霜 | E10: 167 | F10: 48263 | G10: 498.31
A11: 2026-06-29 | B11: 抖音达人矩阵 | C11: CEMOY | D11: CEMOY山羊奶身体乳 | E11: 308 | F11: 52052 | G11: 1243.71
A12: 2026-06-29 | B12: 抖音达人矩阵 | C12: CEMOY | D12: CEMOY奇迹再生面霜 | E12: 127 | F12: 20193 | G12: 1168.38
A13: 2026-06-29 | B13: 抖音达人矩阵 | C13: CEMOY | D13: CEMOY山羊奶洁面乳 | E13: 239 | F13: 30831 | G13: 861.69
A14: 2026-06-29 | B14: 抖音达人矩阵 | C14: CEMOY | D14: CEMOY玻尿酸精华水 | E14: 294 | F14: 49686 | G14: 1996.7
... A170: 2026-07-03 | B170: 抖音旗舰店 | C170: 澳诗茉 | D170: 澳诗茉神经酰胺面霜 | E170: 107 | F170: 27713 | G170: 994.84
A171: 2026-07-03 | B171: 抖音达人矩阵 | C171: CEMOY | D171: CEMOY山羊奶身体乳 | E171: 585 | F171: 169065 | G171: 1509.18 | H171: 达人专场直播拉动
A172: 2026-07-03 | B172: 抖音达人矩阵 | C172: CEMOY | D172: CEMOY奇迹再生面霜 | E172: 505 | F172: 80295 | G172: 2237.11 | H172: 达人专场直播拉动
A173: 2026-07-03 | B173: 抖音达人矩阵 | C173: CEMOY | D173: CEMOY山羊奶洁面乳 | E173: 226 | F173: 51754 | G173: 746.31 | H173: 达人专场直播拉动
A174: 2026-07-03 | B174: 抖音达人矩阵 | C174: CEMOY | D174: CEMOY玻尿酸精华水 | E174: 45 | F174: 13005 | G174: 394.28 | H174: 达人专场直播拉动
A175: 2026-07-03 | B175: 抖音达人矩阵 | C175: 澳诗茉 | D175: 澳诗茉玫瑰精华水 | E175: 268 | F175: 61372 | G175: 1069.25 | H175: 达人专场直播拉动
A176: 2026-07-03 | B176: 抖音达人矩阵 | C176: 澳诗茉 | D176: 澳诗茉烟酰胺淡斑精华 | E176: 297 | F176: 68013 | G176: 1220.29 | H176: 达人专场直播拉动
A177: 2026-07-03 | B177: 抖音达人矩阵 | C177: 澳诗茉 | D177: 澳诗茉洁颜蜜 | E177: 642 | F177: 127758 | G177: 1631.12 | H177: 达人专场直播拉动
A178: 2026-07-03 | B178: 抖音达人矩阵 | C178: 澳诗茉 | D178: 澳诗茉神经酰胺面霜 | E178: 741 | F178: 117819 | G178: 3405.97 | H178: 达人专场直播拉动
A179: 2026-07-03 | B179: 天猫旗舰店 | C179: CEMOY | D179: CEMOY山羊奶身体乳 | E179: 134 | F179: 26666 | G179: 1102.3
A180: 2026-07-03 | B180: 天猫旗舰店 | C180: CEMOY | D180: CEMOY奇迹再生面霜 | E180: 239 | F180: 40391 | G180: 1292.25
A181: 2026-07-03 | B181: 天猫旗舰店 | C181: CEMOY | D181: CEMOY山羊奶洁面乳 | E181: 141 | F181: 23829 | G181: 619.21
A182: 2026-07-03 | B182: 天猫旗舰店 | C182: CEMOY | D182: CEMOY玻尿酸精华水 | E182: 112 | F182: 25648 | G182: 359.81
A183: 2026-07-03 | B183: 天猫旗舰店 | C183: 澳诗茉 | D183: 澳诗茉玫瑰精华水 | E183: 180 | F183: 28620 | G183: 1297.09
A184: 2026-07-03 | B184: 天猫旗舰店 | C184: 澳诗茉 | D184: 澳诗茉烟酰胺淡斑精华 | E184: 191 | F184: 24639 | G184: 757.49
A185: 2026-07-03 | B185: 天猫旗舰店 | C185: 澳诗茉 | D185: 澳诗茉洁颜蜜 | E185: 121 | F185: 15609 | G185: 317.51
A186: 2026-07-03 | B186: 天猫旗舰店 | C186: 澳诗茉 | D186: 澳诗茉神经酰胺面霜 | E186: 201 | F186: 39999 | G186: 1178.92
A187: 2026-07-03 | B187: 天猫超市 | C187: CEMOY | D187: CEMOY山羊奶身体乳 | E187: 44 | F187: 5676 | G187: 299.9
A188: 2026-07-03 | B188: 天猫超市 | C188: CEMOY | D188: CEMOY奇迹再生面霜 | E188: 6 | F188: 1734 | G188: 67.25
A189: 2026-07-03 | B189: 天猫超市 | C189: CEMOY | D189: CEMOY山羊奶洁面乳 | E189: 6 | F189: 1014 | G189: 48.34
A190: 2026-07-03 | B190: 天猫超市 | C190: CEMOY | D190: CEMOY玻尿酸精华水 | E190: 44 | F190: 12716 | G190: 694.07
... A202: 2026-07-03 | B202: 小红书号 | C202: 澳诗茉 | D202: 澳诗茉神经酰胺面霜 | E202: 27 | F202: 7803 | G202: 242.5
A203: 2026-07-04 | B203: 抖音旗舰店 | C203: CEMOY | D203: CEMOY山羊奶身体乳 | E203: 216 | F203: 55944 | G203: 2068.3 | H203: 断货风险，库存低于3日安全线
A204: 2026-07-04 | B204: 抖音旗舰店 | C204: CEMOY | D204: CEMOY奇迹再生面霜 | E204: 118 | F204: 19942 | G204: 422.99
A205: 2026-07-04 | B205: 抖音旗舰店 | C205: CEMOY | D205: CEMOY山羊奶洁面乳 | E205: 323 | F205: 41667 | G205: 1988
A206: 2026-07-04 | B206: 抖音旗舰店 | C206: CEMOY | D206: CEMOY玻尿酸精华水 | E206: 246 | F206: 39114 | G206: 781.03
...

Sheet 渠道汇总
A1: 渠道/品牌汇总（自动汇总公式）
A2: 渠道 | B2: 品牌 | C2: 销量合计(件) | D2: 销售额合计(元) | E2: 退款额合计(元)
A3: 抖音旗舰店 | B3: CEMOY | C3: =SUMIFS(渠道销售明细!E:E,渠道销售明细!B:B,A3,渠道销售明细!C:C,B3) -> 4704 | D3: =SUMIFS(渠道销售明细!F:F,渠道销售明细!B:B,A3,渠道销售明细!C:C,B3) -> 905696 | E3: =SUMIFS(渠道销售明细!G:G,渠道销售明细!B:B,A3,渠道销售明细!C:C,B3) -> 33337.62
A4: 抖音旗舰店 | B4: 澳诗茉 | C4: =SUMIFS(渠道销售明细!E:E,渠道销售明细!B:B,A4,渠道销售明细!C:C,B4) -> 4876 | D4: =SUMIFS(渠道销售明细!F:F,渠道销售明细!B:B,A4,渠道销售明细!C:C,B4) -> 1074324 | E4: =SUMIFS(渠道销售明细!G:G,渠道销售明细!B:B,A4,渠道销售明细!C:C,B4) -> 37014.58
A5: 抖音达人矩阵 | B5: CEMOY | C5: =SUMIFS(渠道销售明细!E:E,渠道销售明细!B:B,A5,渠道销售明细!C:C,B5) -> 9701 | D5: =SUMIFS(渠道销售明细!F:F,渠道销售明细!B:B,A5,渠道销售明细!C:C,B5) -> 1999999 | E5: =SUMIFS(渠道销售明细!G:G,渠道销售明细!B:B,A5,渠道销售明细!C:C,B5) -> 53308.16
A6: 抖音达人矩阵 | B6: 澳诗茉 | C6: =SUMIFS(渠道销售明细!E:E,渠道销售明细!B:B,A6,渠道销售明细!C:C,B6) -> 10098 | D6: =SUMIFS(渠道销售明细!F:F,渠道销售明细!B:B,A6,渠道销售明细!C:C,B6) -> 2090782 | E6: =SUMIFS(渠道销售明细!G:G,渠道销售明细!B:B,A6,渠道销售明细!C:C,B6) -> 50777.29
A7: 天猫旗舰店 | B7: CEMOY | C7: =SUMIFS(渠道销售明细!E:E,渠道销售明细!B:B,A7,渠道销售明细!C:C,B7) -> 4272 | D7: =SUMIFS(渠道销售明细!F:F,渠道销售明细!B:B,A7,渠道销售明细!C:C,B7) -> 878278 | E7: =SUMIFS(渠道销售明细!G:G,渠道销售明细!B:B,A7,渠道销售明细!C:C,B7) -> 31728.32
A8: 天猫旗舰店 | B8: 澳诗茉 | C8: =SUMIFS(渠道销售明细!E:E,渠道销售明细!B:B,A8,渠道销售明细!C:C,B8) -> 4712 | D8: =SUMIFS(渠道销售明细!F:F,渠道销售明细!B:B,A8,渠道销售明细!C:C,B8) -> 931348 | E8: =SUMIFS(渠道销售明细!G:G,渠道销售明细!B:B,A8,渠道销售明细!C:C,B8) -> 36536.58
A9: 天猫超市 | B9: CEMOY | C9: =SUMIFS(渠道销售明细!E:E,渠道销售明细!B:B,A9,渠道销售明细!C:C,B9) -> 1153 | D9: =SUMIFS(渠道销售明细!F:F,渠道销售明细!B:B,A9,渠道销售明细!C:C,B9) -> 218427 | E9: =SUMIFS(渠道销售明细!G:G,渠道销售明细!B:B,A9,渠道销售明细!C:C,B9) -> 8509.77
A10: 天猫超市 | B10: 澳诗茉 | C10: =SUMIFS(渠道销售明细!E:E,渠道销售明细!B:B,A10,渠道销售明细!C:C,B10) -> 975 | D10: =SUMIFS(渠道销售明细!F:F,渠道销售明细!B:B,A10,渠道销售明细!C:C,B10) -> 212625 | E10: =SUMIFS(渠道销售明细!G:G,渠道销售明细!B:B,A10,渠道销售明细!C:C,B10) -> 7512.85
A11: 小红书号 | B11: CEMOY | C11: =SUMIFS(渠道销售明细!E:E,渠道销售明细!B:B,A11,渠道销售明细!C:C,B11) -> 654 | D11: =SUMIFS(渠道销售明细!F:F,渠道销售明细!B:B,A11,渠道销售明细!C:C,B11) -> 131036 | E11: =SUMIFS(渠道销售明细!G:G,渠道销售明细!B:B,A11,渠道销售明细!C:C,B11) -> 4735.66
A12: 小红书号 | B12: 澳诗茉 | C12: =SUMIFS(渠道销售明细!E:E,渠道销售明细!B:B,A12,渠道销售明细!C:C,B12) -> 682 | D12: =SUMIFS(渠道销售明细!F:F,渠道销售明细!B:B,A12,渠道销售明细!C:C,B12) -> 133798 | E12: =SUMIFS(渠道销售明细!G:G,渠道销售明细!B:B,A12,渠道销售明细!C:C,B12) -> 4624.08
A13: 合计 | C13: =SUM(C3:C12) -> 41827 | D13: =SUM(D3:D12) -> 8576313 | E13: =SUM(E3:E12) -> 268084.91
