Workbook

Sheet 渠道销售明细
A1: 上海排阿婆信息科技 · CEMOY/澳诗茉全渠道销售数据（2026年6月29日-7月5日）
A2: 日期 | B2: 渠道 | C2: 品牌 | D2: SKU | E2: 销量(件) | F2: 销售额(元) | G2: 退款额(元) | H2: 备注
A3: 2026-06-29 | B3: 抖音旗舰店 | C3: CEMOY | D3: CEMOY山羊奶身体乳 | E3: 170 | F3: 28730 | G3: 639.09
A4: 2026-06-29 | B4: 抖音旗舰店 | C4: CEMOY | D4: CEMOY奇迹再生面霜 | E4: 169 | F4: 26871 | G4: 1258.2
A5: 2026-06-29 | B5: 抖音旗舰店 | C5: CEMOY | D5: CEMOY山羊奶洁面乳 | E5: 120 | F5: 15480 | G5: 611.84
A6: 2026-06-29 | B6: 抖音旗舰店 | C6: CEMOY | D6: CEMOY玻尿酸精华水 | E6: 60 | F6: 7740 | G6: 88.93
A7: 2026-06-29 | B7: 抖音旗舰店 | C7: 澳诗茉 | D7: 澳诗茉玫瑰精华水 | E7: 194 | F7: 25026 | G7: 952.55
A8: 2026-06-29 | B8: 抖音旗舰店 | C8: 澳诗茉 | D8: 澳诗茉烟酰胺淡斑精华 | E8: 253 | F8: 65527 | G8: 2784.52
A9: 2026-06-29 | B9: 抖音旗舰店 | C9: 澳诗茉 | D9: 澳诗茉洁颜蜜 | E9: 137 | F9: 31373 | G9: 750.11
A10: 2026-06-29 | B10: 抖音旗舰店 | C10: 澳诗茉 | D10: 澳诗茉神经酰胺面霜 | E10: 167 | F10: 48263 | G10: 498.31
A11: 2026-06-29 | B11: 抖音达人矩阵 | C11: CEMOY | D11: CEMOY山羊奶身体乳 | E11: 308 | F11: 52052 | G11: 1243.71
A12: 2026-06-29 | B12: 抖音达人矩阵 | C12: CEMOY | D12: CEMOY奇迹再生面霜 | E12: 127 | F12: 20193 | G12: 1168.38
A13: 2026-06-29 | B13: 抖音达人矩阵 | C13: CEMOY | D13: CEMOY山羊奶洁面乳 | E13: 239 | F13: 30831 | G13: 861.69
A14: 2026-06-29 | B14: 抖音达人矩阵 | C14: CEMOY | D14: CEMOY玻尿酸精华水 | E14: 294 | F14: 49686 | G14: 1996.7
... A170: 2026-07-03 | B170: 抖音旗舰店 | C170: 澳诗茉 | D170: 澳诗茉神经酰胺面霜 | E170: 107 | F170: 27713 | G170: 994.84
A171: 2026-07-03 | B171: 抖音达人矩阵 | C171: CEMOY | D171: CEMOY山羊奶身体乳 | E171: 585 | F171: 169065 | G171: 1509.18 | H171: 达人专场直播拉动
A172: 2026-07-03 | B172: 抖音达人矩阵 | C172: CEMOY | D172: CEMOY奇迹再生面霜 | E172: 505 | F172: 80295 | G172: 2237.11 | H172: 达人专场直播拉动
A173: 2026-07-03 | B173: 抖音达人矩阵 | C173: CEMOY | D173: CEMOY山羊奶洁面乳 | E173: 226 | F173: 51754 | G173: 746.31 | H173: 达人专场直播拉动
A174: 2026-07-03 | B174: 抖音达人矩阵 | C174: CEMOY | D174: CEMOY玻尿酸精华水 | E174: 45 | F174: 13005 | G174: 394.28 | H174: 达人专场直播拉动
A175: 2026-07-03 | B175: 抖音达人矩阵 | C175: 澳诗茉 | D175: 澳诗茉玫瑰精华水 | E175: 268 | F175: 61372 | G175: 1069.25 | H175: 达人专场直播拉动
A176: 2026-07-03 | B176: 抖音达人矩阵 | C176: 澳诗茉 | D176: 澳诗茉烟酰胺淡斑精华 | E176: 297 | F176: 68013 | G176: 1220.29 | H176: 达人专场直播拉动
A177: 2026-07-03 | B177: 抖音达人矩阵 | C177: 澳诗茉 | D177: 澳诗茉洁颜蜜 | E177: 642 | F177: 127758 | G177: 1631.12 | H177: 达人专场直播拉动
A178: 2026-07-03 | B178: 抖音达人矩阵 | C178: 澳诗茉 | D178: 澳诗茉神经酰胺面霜 | E178: 741 | F178: 117819 | G178: 3405.97 | H178: 达人专场直播拉动
A179: 2026-07-03 | B179: 天猫旗舰店 | C179: CEMOY | D179: CEMOY山羊奶身体乳 | E179: 134 | F179: 26666 | G179: 1102.3
A180: 2026-07-03 | B180: 天猫旗舰店 | C180: CEMOY | D180: CEMOY奇迹再生面霜 | E180: 239 | F180: 40391 | G180: 1292.25
A181: 2026-07-03 | B181: 天猫旗舰店 | C181: CEMOY | D181: CEMOY山羊奶洁面乳 | E181: 141 | F181: 23829 | G181: 619.21
A182: 2026-07-03 | B182: 天猫旗舰店 | C182: CEMOY | D182: CEMOY玻尿酸精华水 | E182: 112 | F182: 25648 | G182: 359.81
A183: 2026-07-03 | B183: 天猫旗舰店 | C183: 澳诗茉 | D183: 澳诗茉玫瑰精华水 | E183: 180 | F183: 28620 | G183: 1297.09
A184: 2026-07-03 | B184: 天猫旗舰店 | C184: 澳诗茉 | D184: 澳诗茉烟酰胺淡斑精华 | E184: 191 | F184: 24639 | G184: 757.49
A185: 2026-07-03 | B185: 天猫旗舰店 | C185: 澳诗茉 | D185: 澳诗茉洁颜蜜 | E185: 121 | F185: 15609 | G185: 317.51
A186: 2026-07-03 | B186: 天猫旗舰店 | C186: 澳诗茉 | D186: 澳诗茉神经酰胺面霜 | E186: 201 | F186: 39999 | G186: 1178.92
A187: 2026-07-03 | B187: 天猫超市 | C187: CEMOY | D187: CEMOY山羊奶身体乳 | E187: 44 | F187: 5676 | G187: 299.9
A188: 2026-07-03 | B188: 天猫超市 | C188: CEMOY | D188: CEMOY奇迹再生面霜 | E188: 6 | F188: 1734 | G188: 67.25
A189: 2026-07-03 | B189: 天猫超市 | C189: CEMOY | D189: CEMOY山羊奶洁面乳 | E189: 6 | F189: 1014 | G189: 48.34
A190: 2026-07-03 | B190: 天猫超市 | C190: CEMOY | D190: CEMOY玻尿酸精华水 | E190: 44 | F190: 12716 | G190: 694.07
... A202: 2026-07-03 | B202: 小红书号 | C202: 澳诗茉 | D202: 澳诗茉神经酰胺面霜 | E202: 27 | F202: 7803 | G202: 242.5
A203: 2026-07-04 | B203: 抖音旗舰店 | C203: CEMOY | D203: CEMOY山羊奶身体乳 | E203: 216 | F203: 55944 | G203: 2068.3 | H203: 断货风险，库存低于3日安全线
A204: 2026-07-04 | B204: 抖音旗舰店 | C204: CEMOY | D204: CEMOY奇迹再生面霜 | E204: 118 | F204: 19942 | G204: 422.99
A205: 2026-07-04 | B205: 抖音旗舰店 | C205: CEMOY | D205: CEMOY山羊奶洁面乳 | E205: 323 | F205: 41667 | G205: 1988
A206: 2026-07-04 | B206: 抖音旗舰店 | C206: CEMOY | D206: CEMOY玻尿酸精华水 | E206: 246 | F206: 39114 | G206: 781.03
A207: 2026-07-04 | B207: 抖音旗舰店 | C207: 澳诗茉 | D207: 澳诗茉玫瑰精华水 | E207: 215 | F207: 34185 | G207: 1151.28
A208: 2026-07-04 | B208: 抖音旗舰店 | C208: 澳诗茉 | D208: 澳诗茉烟酰胺淡斑精华 | E208: 184 | F208: 23736 | G208: 906.68
A209: 2026-07-04 | B209: 抖音旗舰店 | C209: 澳诗茉 | D209: 澳诗茉洁颜蜜 | E209: 199 | F209: 57511 | G209: 1635.89
A210: 2026-07-04 | B210: 抖音旗舰店 | C210: 澳诗茉 | D210: 澳诗茉神经酰胺面霜 | E210: 275 | F210: 62975 | G210: 2541.82
A211: 2026-07-04 | B211: 抖音达人矩阵 | C211: CEMOY | D211: CEMOY山羊奶身体乳 | E211: 466 | F211: 134674 | G211: 1361.41 | H211: 达人专场直播拉动；断货风险，库存低于3日安全线
A212: 2026-07-04 | B212: 抖音达人矩阵 | C212: CEMOY | D212: CEMOY奇迹再生面霜 | E212: 387 | F212: 65403 | G212: 559.74 | H212: 达人专场直播拉动
A213: 2026-07-04 | B213: 抖音达人矩阵 | C213: CEMOY | D213: CEMOY山羊奶洁面乳 | E213: 606 | F213: 156954 | G213: 4835.59 | H213: 达人专场直播拉动
A214: 2026-07-04 | B214: 抖音达人矩阵 | C214: CEMOY | D214: CEMOY玻尿酸精华水 | E214: 489 | F214: 97311 | G214: 1614.79 | H214: 达人专场直播拉动
A215: 2026-07-04 | B215: 抖音达人矩阵 | C215: 澳诗茉 | D215: 澳诗茉玫瑰精华水 | E215: 453 | F215: 117327 | G215: 3363.17 | H215: 达人专场直播拉动
A216: 2026-07-04 | B216: 抖音达人矩阵 | C216: 澳诗茉 | D216: 澳诗茉烟酰胺淡斑精华 | E216: 403 | F216: 64077 | G216: 537.63 | H216: 达人专场直播拉动
A217: 2026-07-04 | B217: 抖音达人矩阵 | C217: 澳诗茉 | D217: 澳诗茉洁颜蜜 | E217: 511 | F217: 117019 | G217: 3269.78 | H217: 达人专场直播拉动
A218: 2026-07-04 | B218: 抖音达人矩阵 | C218: 澳诗茉 | D218: 澳诗茉神经酰胺面霜 | E218: 151 | F218: 43639 | G218: 1436.95 | H218: 达人专场直播拉动
A219: 2026-07-04 | B219: 天猫旗舰店 | C219: CEMOY | D219: CEMOY山羊奶身体乳 | E219: 159 | F219: 31641 | G219: 1362.97 | H219: 断货风险，库存低于3日安全线
A220: 2026-07-04 | B220: 天猫旗舰店 | C220: CEMOY | D220: CEMOY奇迹再生面霜 | E220: 102 | F220: 13158 | G220: 464.45
A221: 2026-07-04 | B221: 天猫旗舰店 | C221: CEMOY | D221: CEMOY山羊奶洁面乳 | E221: 94 | F221: 27166 | G221: 937.5
A222: 2026-07-04 | B222: 天猫旗舰店 | C222: CEMOY | D222: CEMOY玻尿酸精华水 | E222: 235 | F222: 46765 | G222: 2714.21
A223: 2026-07-04 | B223: 天猫旗舰店 | C223: 澳诗茉 | D223: 澳诗茉玫瑰精华水 | E223: 85 | F223: 22015 | G223: 388.56
A224: 2026-07-04 | B224: 天猫旗舰店 | C224: 澳诗茉 | D224: 澳诗茉烟酰胺淡斑精华 | E224: 75 | F224: 11925 | G224: 556.78
A225: 2026-07-04 | B225: 天猫旗舰店 | C225: 澳诗茉 | D225: 澳诗茉洁颜蜜 | E225: 190 | F225: 54910 | G225: 3073.91
A226: 2026-07-04 | B226: 天猫旗舰店 | C226: 澳诗茉 | D226: 澳诗茉神经酰胺面霜 | E226: 141 | F226: 40749 | G226: 1392.59
A227: 2026-07-04 | B227: 天猫超市 | C227: CEMOY | D227: CEMOY山羊奶身体乳 | E227: 19 | F227: 3211 | G227: 83.86 | H227: 断货风险，库存低于3日安全线
A228: 2026-07-04 | B228: 天猫超市 | C228: CEMOY | D228: CEMOY奇迹再生面霜 | E228: 48 | F228: 7632 | G228: 393.33
A229: 2026-07-04 | B229: 天猫超市 | C229: CEMOY | D229: CEMOY山羊奶洁面乳 | E229: 64 | F229: 10176 | G229: 483.6
A230: 2026-07-04 | B230: 天猫超市 | C230: CEMOY | D230: CEMOY玻尿酸精华水 | E230: 54 | F230: 12366 | G230: 501.03
A231: 2026-07-04 | B231: 天猫超市 | C231: 澳诗茉 | D231: 澳诗茉玫瑰精华水 | E231: 37 | F231: 10693 | G231: 280.7
A232: 2026-07-04 | B232: 天猫超市 | C232: 澳诗茉 | D232: 澳诗茉烟酰胺淡斑精华 | E232: 42 | F232: 8358 | G232: 172.22
A233: 2026-07-04 | B233: 天猫超市 | C233: 澳诗茉 | D233: 澳诗茉洁颜蜜 | E233: 43 | F233: 9847 | G233: 443.7
A234: 2026-07-04 | B234: 天猫超市 | C234: 澳诗茉 | D234: 澳诗茉神经酰胺面霜 | E234: 27 | F234: 4563 | G234: 172.43
A235: 2026-07-04 | B235: 小红书号 | C235: CEMOY | D235: CEMOY山羊奶身体乳 | E235: 19 | F235: 3021 | G235: 138.98 | H235: 断货风险，库存低于3日安全线
A236: 2026-07-04 | B236: 小红书号 | C236: CEMOY | D236: CEMOY奇迹再生面霜 | E236: 24 | F236: 4776 | G236: 180.34
A237: 2026-07-04 | B237: 小红书号 | C237: CEMOY | D237: CEMOY山羊奶洁面乳 | E237: 25 | F237: 6475 | G237: 223.65
A238: 2026-07-04 | B238: 小红书号 | C238: CEMOY | D238: CEMOY玻尿酸精华水 | E238: 34 | F238: 9826 | G238: 106.73
A239: 2026-07-04 | B239: 小红书号 | C239: 澳诗茉 | D239: 澳诗茉玫瑰精华水 | E239: 22 | F239: 3498 | G239: 88.54
A240: 2026-07-04 | B240: 小红书号 | C240: 澳诗茉 | D240: 澳诗茉烟酰胺淡斑精华 | E240: 33 | F240: 7557 | G240: 215
A241: 2026-07-04 | B241: 小红书号 | C241: 澳诗茉 | D241: 澳诗茉洁颜蜜 | E241: 17 | F241: 4403 | G241: 165.2
A242: 2026-07-04 | B242: 小红书号 | C242: 澳诗茉 | D242: 澳诗茉神经酰胺面霜 | E242: 22 | F242: 3718 | G242: 167.84
A243: 2026-07-05 | B243: 抖音旗舰店 | C243: CEMOY | D243: CEMOY山羊奶身体乳 | E243: 173 | F243: 22317 | G243: 1028.02 | H243: 断货风险，库存低于3日安全线
A244: 2026-07-05 | B244: 抖音旗舰店 | C244: CEMOY | D244: CEMOY奇迹再生面霜 | E244: 227 | F244: 38363 | G244: 612.95
A245: 2026-07-05 | B245: 抖音旗舰店 | C245: CEMOY | D245: CEMOY山羊奶洁面乳 | E245: 75 | F245: 11925 | G245: 233.46
A246: 2026-07-05 | B246: 抖音旗舰店 | C246: CEMOY | D246: CEMOY玻尿酸精华水 | E246: 156 | F246: 40404 | G246: 1382.22
A247: 2026-07-05 | B247: 抖音旗舰店 | C247: 澳诗茉 | D247: 澳诗茉玫瑰精华水 | E247: 152 | F247: 34808 | G247: 1386.73
A248: 2026-07-05 | B248: 抖音旗舰店 | C248: 澳诗茉 | D248: 澳诗茉烟酰胺淡斑精华 | E248: 9 | F248: 1161 | G248: 59.94
A249: 2026-07-05 | B249: 抖音旗舰店 | C249: 澳诗茉 | D249: 澳诗茉洁颜蜜 | E249: 162 | F249: 27378 | G249: 293.15
A250: 2026-07-05 | B250: 抖音旗舰店 | C250: 澳诗茉 | D250: 澳诗茉神经酰胺面霜 | E250: 237 | F250: 54273 | G250: 886.23
A251: 2026-07-05 | B251: 抖音达人矩阵 | C251: CEMOY | D251: CEMOY山羊奶身体乳 | E251: 520 | F251: 87880 | G251: 2191.54 | H251: 达人专场直播拉动；断货风险，库存低于3日安全线
A252: 2026-07-05 | B252: 抖音达人矩阵 | C252: CEMOY | D252: CEMOY奇迹再生面霜 | E252: 482 | F252: 76638 | G252: 1785.17 | H252: 达人专场直播拉动
A253: 2026-07-05 | B253: 抖音达人矩阵 | C253: CEMOY | D253: CEMOY山羊奶洁面乳 | E253: 468 | F253: 60372 | G253: 1298.11 | H253: 达人专场直播拉动
A254: 2026-07-05 | B254: 抖音达人矩阵 | C254: CEMOY | D254: CEMOY玻尿酸精华水 | E254: 390 | F254: 77610 | G254: 1465.45 | H254: 达人专场直播拉动
A255: 2026-07-05 | B255: 抖音达人矩阵 | C255: 澳诗茉 | D255: 澳诗茉玫瑰精华水 | E255: 237 | F255: 40053 | G255: 1272.74 | H255: 达人专场直播拉动
A256: 2026-07-05 | B256: 抖音达人矩阵 | C256: 澳诗茉 | D256: 澳诗茉烟酰胺淡斑精华 | E256: 824 | F256: 163976 | G256: 1431.33 | H256: 达人专场直播拉动
A257: 2026-07-05 | B257: 抖音达人矩阵 | C257: 澳诗茉 | D257: 澳诗茉洁颜蜜 | E257: 642 | F257: 147018 | G257: 3390.48 | H257: 达人专场直播拉动
A258: 2026-07-05 | B258: 抖音达人矩阵 | C258: 澳诗茉 | D258: 澳诗茉神经酰胺面霜 | E258: 543 | F258: 70047 | G258: 685.13 | H258: 达人专场直播拉动
A259: 2026-07-05 | B259: 天猫旗舰店 | C259: CEMOY | D259: CEMOY山羊奶身体乳 | E259: 198 | F259: 25542 | G259: 1524.75 | H259: 断货风险，库存低于3日安全线
A260: 2026-07-05 | B260: 天猫旗舰店 | C260: CEMOY | D260: CEMOY奇迹再生面霜 | E260: 31 | F260: 3999 | G260: 151.58
A261: 2026-07-05 | B261: 天猫旗舰店 | C261: CEMOY | D261: CEMOY山羊奶洁面乳 | E261: 88 | F261: 20152 | G261: 428.92
A262: 2026-07-05 | B262: 天猫旗舰店 | C262: CEMOY | D262: CEMOY玻尿酸精华水 | E262: 185 | F262: 42365 | G262: 1229.39
A263: 2026-07-05 | B263: 天猫旗舰店 | C263: 澳诗茉 | D263: 澳诗茉玫瑰精华水 | E263: 187 | F263: 42823 | G263: 2548.04
A264: 2026-07-05 | B264: 天猫旗舰店 | C264: 澳诗茉 | D264: 澳诗茉烟酰胺淡斑精华 | E264: 126 | F264: 21294 | G264: 818.36
A265: 2026-07-05 | B265: 天猫旗舰店 | C265: 澳诗茉 | D265: 澳诗茉洁颜蜜 | E265: 273 | F265: 35217 | G265: 2020.73
A266: 2026-07-05 | B266: 天猫旗舰店 | C266: 澳诗茉 | D266: 澳诗茉神经酰胺面霜 | E266: 199 | F266: 31641 | G266: 1306.01
...

Sheet 渠道汇总
A1: 渠道/品牌汇总（自动汇总公式）
A2: 渠道 | B2: 品牌 | C2: 销量合计(件) | D2: 销售额合计(元) | E2: 退款额合计(元)
A3: 抖音旗舰店 | B3: CEMOY | C3: =SUMIFS(渠道销售明细!E:E,渠道销售明细!B:B,A3,渠道销售明细!C:C,B3) -> 4704 | D3: =SUMIFS(渠道销售明细!F:F,渠道销售明细!B:B,A3,渠道销售明细!C:C,B3) -> 905696 | E3: =SUMIFS(渠道销售明细!G:G,渠道销售明细!B:B,A3,渠道销售明细!C:C,B3) -> 33337.62
A4: 抖音旗舰店 | B4: 澳诗茉 | C4: =SUMIFS(渠道销售明细!E:E,渠道销售明细!B:B,A4,渠道销售明细!C:C,B4) -> 4876 | D4: =SUMIFS(渠道销售明细!F:F,渠道销售明细!B:B,A4,渠道销售明细!C:C,B4) -> 1074324 | E4: =SUMIFS(渠道销售明细!G:G,渠道销售明细!B:B,A4,渠道销售明细!C:C,B4) -> 37014.58
A5: 抖音达人矩阵 | B5: CEMOY | C5: =SUMIFS(渠道销售明细!E:E,渠道销售明细!B:B,A5,渠道销售明细!C:C,B5) -> 9701 | D5: =SUMIFS(渠道销售明细!F:F,渠道销售明细!B:B,A5,渠道销售明细!C:C,B5) -> 1999999 | E5: =SUMIFS(渠道销售明细!G:G,渠道销售明细!B:B,A5,渠道销售明细!C:C,B5) -> 53308.16
A6: 抖音达人矩阵 | B6: 澳诗茉 | C6: =SUMIFS(渠道销售明细!E:E,渠道销售明细!B:B,A6,渠道销售明细!C:C,B6) -> 10098 | D6: =SUMIFS(渠道销售明细!F:F,渠道销售明细!B:B,A6,渠道销售明细!C:C,B6) -> 2090782 | E6: =SUMIFS(渠道销售明细!G:G,渠道销售明细!B:B,A6,渠道销售明细!C:C,B6) -> 50777.29
A7: 天猫旗舰店 | B7: CEMOY | C7: =SUMIFS(渠道销售明细!E:E,渠道销售明细!B:B,A7,渠道销售明细!C:C,B7) -> 4272 | D7: =SUMIFS(渠道销售明细!F:F,渠道销售明细!B:B,A7,渠道销售明细!C:C,B7) -> 878278 | E7: =SUMIFS(渠道销售明细!G:G,渠道销售明细!B:B,A7,渠道销售明细!C:C,B7) -> 31728.32
A8: 天猫旗舰店 | B8: 澳诗茉 | C8: =SUMIFS(渠道销售明细!E:E,渠道销售明细!B:B,A8,渠道销售明细!C:C,B8) -> 4712 | D8: =SUMIFS(渠道销售明细!F:F,渠道销售明细!B:B,A8,渠道销售明细!C:C,B8) -> 931348 | E8: =SUMIFS(渠道销售明细!G:G,渠道销售明细!B:B,A8,渠道销售明细!C:C,B8) -> 36536.58
A9: 天猫超市 | B9: CEMOY | C9: =SUMIFS(渠道销售明细!E:E,渠道销售明细!B:B,A9,渠道销售明细!C:C,B9) -> 1153 | D9: =SUMIFS(渠道销售明细!F:F,渠道销售明细!B:B,A9,渠道销售明细!C:C,B9) -> 218427 | E9: =SUMIFS(渠道销售明细!G:G,渠道销售明细!B:B,A9,渠道销售明细!C:C,B9) -> 8509.77
A10: 天猫超市 | B10: 澳诗茉 | C10: =SUMIFS(渠道销售明细!E:E,渠道销售明细!B:B,A10,渠道销售明细!C:C,B10) -> 975 | D10: =SUMIFS(渠道销售明细!F:F,渠道销售明细!B:B,A10,渠道销售明细!C:C,B10) -> 212625 | E10: =SUMIFS(渠道销售明细!G:G,渠道销售明细!B:B,A10,渠道销售明细!C:C,B10) -> 7512.85
A11: 小红书号 | B11: CEMOY | C11: =SUMIFS(渠道销售明细!E:E,渠道销售明细!B:B,A11,渠道销售明细!C:C,B11) -> 654 | D11: =SUMIFS(渠道销售明细!F:F,渠道销售明细!B:B,A11,渠道销售明细!C:C,B11) -> 131036 | E11: =SUMIFS(渠道销售明细!G:G,渠道销售明细!B:B,A11,渠道销售明细!C:C,B11) -> 4735.66
A12: 小红书号 | B12: 澳诗茉 | C12: =SUMIFS(渠道销售明细!E:E,渠道销售明细!B:B,A12,渠道销售明细!C:C,B12) -> 682 | D12: =SUMIFS(渠道销售明细!F:F,渠道销售明细!B:B,A12,渠道销售明细!C:C,B12) -> 133798 | E12: =SUMIFS(渠道销售明细!G:G,渠道销售明细!B:B,A12,渠道销售明细!C:C,B12) -> 4624.08
A13: 合计 | C13: =SUM(C3:C12) -> 41827 | D13: =SUM(D3:D12) -> 8576313 | E13: =SUM(E3:E12) -> 268084.91
